BEGIN:VCALENDAR
VERSION:2.0
PRODID:-//Frederick Living - ECPv6.15.20//NONSGML v1.0//EN
CALSCALE:GREGORIAN
METHOD:PUBLISH
X-ORIGINAL-URL:https://frederickliving.org
X-WR-CALDESC:Events for Frederick Living
REFRESH-INTERVAL;VALUE=DURATION:PT1H
X-Robots-Tag:noindex
X-PUBLISHED-TTL:PT1H
BEGIN:VTIMEZONE
TZID:America/New_York
BEGIN:DAYLIGHT
TZOFFSETFROM:-0500
TZOFFSETTO:-0400
TZNAME:EDT
DTSTART:20240310T070000
END:DAYLIGHT
BEGIN:STANDARD
TZOFFSETFROM:-0400
TZOFFSETTO:-0500
TZNAME:EST
DTSTART:20241103T060000
END:STANDARD
BEGIN:DAYLIGHT
TZOFFSETFROM:-0500
TZOFFSETTO:-0400
TZNAME:EDT
DTSTART:20250309T070000
END:DAYLIGHT
BEGIN:STANDARD
TZOFFSETFROM:-0400
TZOFFSETTO:-0500
TZNAME:EST
DTSTART:20251102T060000
END:STANDARD
BEGIN:DAYLIGHT
TZOFFSETFROM:-0500
TZOFFSETTO:-0400
TZNAME:EDT
DTSTART:20260308T070000
END:DAYLIGHT
BEGIN:STANDARD
TZOFFSETFROM:-0400
TZOFFSETTO:-0500
TZNAME:EST
DTSTART:20261101T060000
END:STANDARD
END:VTIMEZONE
BEGIN:VEVENT
DTSTART;TZID=America/New_York:20251113T110000
DTEND;TZID=America/New_York:20251113T130000
DTSTAMP:20260422T151356
CREATED:20250122T152103Z
LAST-MODIFIED:20250122T152301Z
UID:10001976-1763031600-1763038800@frederickliving.org
SUMMARY:Lunch & Learn
DESCRIPTION:The best way to learn about a retirement lifestyle at Frederick Living is to experience it. As you consider a move to our community\, gather information on amenities and accommodation types\, enjoy lunch with a resident host and tour our community hub. To reserve your seat call Lisa McCartin at  610-754-7878 ext. 1001 or email her at lmccartin@frederickliving.org. We can’t wait to welcome you to Frederick Living!
URL:https://frederickliving.org/event/11574/2025-11-13/
LOCATION:Fireside Dining Room at Frederick Living\, 2849 Big Road\, Zieglerville\, Pennsylvania\, 19492
ATTACH;FMTTYPE=image/jpeg:https://frederickliving.org/wp-content/uploads/2024/08/plate-of-food-for-website-sm.jpg
END:VEVENT
BEGIN:VEVENT
DTSTART;TZID=America/New_York:20251113T133000
DTEND;TZID=America/New_York:20251113T143000
DTSTAMP:20260422T151356
CREATED:20250825T205937Z
LAST-MODIFIED:20250825T205941Z
UID:10002080-1763040600-1763044200@frederickliving.org
SUMMARY:All the New Testament in One Hour
DESCRIPTION:Using cartoons\, humor\, and bad Dad jokes\, Chaplain Richard O’Hara will review every book in the New Testament helping you to learn the theme\, purpose and basic content of each one. You will laugh\, learn and love the Bible even more at the end of the hour.
URL:https://frederickliving.org/event/all-the-new-testament-in-one-hour/
LOCATION:Frederick Living Auditorium\, 2849 Big Rd.\, Zieglerville\, Pennsylvania\, 19492
ATTACH;FMTTYPE=image/jpeg:https://frederickliving.org/wp-content/uploads/2025/08/Pastor-OHara.jpg
END:VEVENT
END:VCALENDAR