BEGIN:VCALENDAR
VERSION:2.0
PRODID:-//Frederick Living - ECPv6.15.20//NONSGML v1.0//EN
CALSCALE:GREGORIAN
METHOD:PUBLISH
X-WR-CALNAME:Frederick Living
X-ORIGINAL-URL:https://frederickliving.org
X-WR-CALDESC:Events for Frederick Living
REFRESH-INTERVAL;VALUE=DURATION:PT1H
X-Robots-Tag:noindex
X-PUBLISHED-TTL:PT1H
BEGIN:VTIMEZONE
TZID:America/New_York
BEGIN:DAYLIGHT
TZOFFSETFROM:-0500
TZOFFSETTO:-0400
TZNAME:EDT
DTSTART:20240310T070000
END:DAYLIGHT
BEGIN:STANDARD
TZOFFSETFROM:-0400
TZOFFSETTO:-0500
TZNAME:EST
DTSTART:20241103T060000
END:STANDARD
BEGIN:DAYLIGHT
TZOFFSETFROM:-0500
TZOFFSETTO:-0400
TZNAME:EDT
DTSTART:20250309T070000
END:DAYLIGHT
BEGIN:STANDARD
TZOFFSETFROM:-0400
TZOFFSETTO:-0500
TZNAME:EST
DTSTART:20251102T060000
END:STANDARD
BEGIN:DAYLIGHT
TZOFFSETFROM:-0500
TZOFFSETTO:-0400
TZNAME:EDT
DTSTART:20260308T070000
END:DAYLIGHT
BEGIN:STANDARD
TZOFFSETFROM:-0400
TZOFFSETTO:-0500
TZNAME:EST
DTSTART:20261101T060000
END:STANDARD
END:VTIMEZONE
BEGIN:VEVENT
DTSTART;TZID=America/New_York:20251111T100000
DTEND;TZID=America/New_York:20251111T113000
DTSTAMP:20260422T151320
CREATED:20250723T194304Z
LAST-MODIFIED:20250723T194307Z
UID:10002074-1762855200-1762860600@frederickliving.org
SUMMARY:Take Control & Live Your Dream: the Power of a Plan
DESCRIPTION:A Six-Week Series on Planning for Retirement\, Downsizing & Managed Moves\n\n\n\n\n\nAging in Place: Temporary Fixes and Permanent Solutions\n\n\n\nFor many older adults\, their current home is near friends and family\, doctors\, and familiar landmarks – and may be more or less suited for aging-in-place as they age. But most homes can still be improved to ensure safety and to minimize risk of falls or other injuries—all things that will keep the homeowner healthy and living independently for as long as possible. \n\n\n\nJoin Jill Kearney\, certified Aging-In-Place specialist\, as she helps attendees analyze the pluses and minuses of their current homes\, what causes safety hazards\, ways to improve (lighting\, bathrooms\, reach\, etc)\, and capital improvements they might need to consider. She also covers how senior living communities are uniquely designed to address these physical issues\, but also the mental\, emotional and spiritual needs of older adults so they can age-in-place happily for the rest of their lives. \n\n\n\nThis series is free and open to the public. We ask that you RSVP to Lisa McCartin at 610-754-7878 ext. 1001 or lmccartin@frederickliving.org to reserve your seat.
URL:https://frederickliving.org/event/take-control-live-your-dream-the-power-of-a-plan-6/
LOCATION:Fireside Dining Room at Frederick Living\, 2849 Big Road\, Zieglerville\, Pennsylvania\, 19492
CATEGORIES:community,educational
ATTACH;FMTTYPE=image/jpeg:https://frederickliving.org/wp-content/uploads/2024/08/Jill-Headshot.sm_.jpg
END:VEVENT
BEGIN:VEVENT
DTSTART;TZID=America/New_York:20251111T100000
DTEND;TZID=America/New_York:20251111T150000
DTSTAMP:20260422T151320
CREATED:20231219T182633Z
LAST-MODIFIED:20250414T131123Z
UID:10001374-1762855200-1762873200@frederickliving.org
SUMMARY:On-Site Interviews - Frederick Living
DESCRIPTION:On-Site interview day is every Tuesday! If you’re searching for a forward-looking community and a purposeful career we would like to talk with you!  \n\n\n\nFrederick Living is part of Garden Spot Communities\, located in Zieglerville and is committed to knowing you and helping you fulfill your dreams and live the life you imagine.
URL:https://frederickliving.org/event/walk-on-interviews-frederick-living/2025-11-11/
LOCATION:Frederick Living\, 2849 Big Rd\, Zieglerville\, PA 19492\, Pennsylvania\, 19492\, United States
CATEGORIES:Frederick Living,On-Site Interviews
ATTACH;FMTTYPE=image/jpeg:https://frederickliving.org/wp-content/uploads/2023/12/Beth-interview.jpg
END:VEVENT
END:VCALENDAR