BEGIN:VCALENDAR
VERSION:2.0
PRODID:-//Frederick Living - ECPv6.15.20//NONSGML v1.0//EN
CALSCALE:GREGORIAN
METHOD:PUBLISH
X-ORIGINAL-URL:https://frederickliving.org
X-WR-CALDESC:Events for Frederick Living
REFRESH-INTERVAL;VALUE=DURATION:PT1H
X-Robots-Tag:noindex
X-PUBLISHED-TTL:PT1H
BEGIN:VTIMEZONE
TZID:America/New_York
BEGIN:DAYLIGHT
TZOFFSETFROM:-0500
TZOFFSETTO:-0400
TZNAME:EDT
DTSTART:20240310T070000
END:DAYLIGHT
BEGIN:STANDARD
TZOFFSETFROM:-0400
TZOFFSETTO:-0500
TZNAME:EST
DTSTART:20241103T060000
END:STANDARD
BEGIN:DAYLIGHT
TZOFFSETFROM:-0500
TZOFFSETTO:-0400
TZNAME:EDT
DTSTART:20250309T070000
END:DAYLIGHT
BEGIN:STANDARD
TZOFFSETFROM:-0400
TZOFFSETTO:-0500
TZNAME:EST
DTSTART:20251102T060000
END:STANDARD
BEGIN:DAYLIGHT
TZOFFSETFROM:-0500
TZOFFSETTO:-0400
TZNAME:EDT
DTSTART:20260308T070000
END:DAYLIGHT
BEGIN:STANDARD
TZOFFSETFROM:-0400
TZOFFSETTO:-0500
TZNAME:EST
DTSTART:20261101T060000
END:STANDARD
END:VTIMEZONE
BEGIN:VEVENT
DTSTART;TZID=America/New_York:20250724T183000
DTEND;TZID=America/New_York:20250724T193000
DTSTAMP:20260422T211252
CREATED:20250703T155352Z
LAST-MODIFIED:20250703T155355Z
UID:10002060-1753381800-1753385400@frederickliving.org
SUMMARY:Irish Music with Travis Wentzel
DESCRIPTION:Experience an evening of Irish Folk Music with Travis Wetzel. Hailing from Tennessee\, Travis is a returning artist to the Frederick Living community. Concert is open to the public.
URL:https://frederickliving.org/event/irish-music-with-travis-wentzel/
LOCATION:Frederick Living Auditorium\, 2849 Big Rd.\, Zieglerville\, Pennsylvania\, 19492
ATTACH;FMTTYPE=image/jpeg:https://frederickliving.org/wp-content/uploads/2025/07/Travis-Wetzel.jpg
END:VEVENT
END:VCALENDAR