BEGIN:VCALENDAR
VERSION:2.0
PRODID:-//Frederick Living - ECPv6.15.20//NONSGML v1.0//EN
CALSCALE:GREGORIAN
METHOD:PUBLISH
X-ORIGINAL-URL:https://frederickliving.org
X-WR-CALDESC:Events for Frederick Living
REFRESH-INTERVAL;VALUE=DURATION:PT1H
X-Robots-Tag:noindex
X-PUBLISHED-TTL:PT1H
BEGIN:VTIMEZONE
TZID:America/New_York
BEGIN:DAYLIGHT
TZOFFSETFROM:-0500
TZOFFSETTO:-0400
TZNAME:EDT
DTSTART:20240310T070000
END:DAYLIGHT
BEGIN:STANDARD
TZOFFSETFROM:-0400
TZOFFSETTO:-0500
TZNAME:EST
DTSTART:20241103T060000
END:STANDARD
BEGIN:DAYLIGHT
TZOFFSETFROM:-0500
TZOFFSETTO:-0400
TZNAME:EDT
DTSTART:20250309T070000
END:DAYLIGHT
BEGIN:STANDARD
TZOFFSETFROM:-0400
TZOFFSETTO:-0500
TZNAME:EST
DTSTART:20251102T060000
END:STANDARD
BEGIN:DAYLIGHT
TZOFFSETFROM:-0500
TZOFFSETTO:-0400
TZNAME:EDT
DTSTART:20260308T070000
END:DAYLIGHT
BEGIN:STANDARD
TZOFFSETFROM:-0400
TZOFFSETTO:-0500
TZNAME:EST
DTSTART:20261101T060000
END:STANDARD
END:VTIMEZONE
BEGIN:VEVENT
DTSTART;TZID=America/New_York:20250721T190000
DTEND;TZID=America/New_York:20250721T200000
DTSTAMP:20260422T211149
CREATED:20250703T154309Z
LAST-MODIFIED:20250703T154517Z
UID:10002059-1753124400-1753128000@frederickliving.org
SUMMARY:Outdoor Concert: Pottsgrove Community Band
DESCRIPTION:Enjoy this outdoor concert by the Pottsgrove Community Band on the Frederick Living grounds. Please bring your lawn chairs. Open to the public.
URL:https://frederickliving.org/event/outdoor-concert-pottsgrove-community-band/
LOCATION:Frederick Living\, 2849 Big Rd\, Zieglerville\, PA 19492\, Pennsylvania\, 19492\, United States
ATTACH;FMTTYPE=image/jpeg:https://frederickliving.org/wp-content/uploads/2025/07/pottsgrove-band-1.jpg
END:VEVENT
END:VCALENDAR