BEGIN:VCALENDAR
VERSION:2.0
PRODID:-//Frederick Living - ECPv6.15.20//NONSGML v1.0//EN
CALSCALE:GREGORIAN
METHOD:PUBLISH
X-WR-CALNAME:Frederick Living
X-ORIGINAL-URL:https://frederickliving.org
X-WR-CALDESC:Events for Frederick Living
REFRESH-INTERVAL;VALUE=DURATION:PT1H
X-Robots-Tag:noindex
X-PUBLISHED-TTL:PT1H
BEGIN:VTIMEZONE
TZID:America/New_York
BEGIN:DAYLIGHT
TZOFFSETFROM:-0500
TZOFFSETTO:-0400
TZNAME:EDT
DTSTART:20240310T070000
END:DAYLIGHT
BEGIN:STANDARD
TZOFFSETFROM:-0400
TZOFFSETTO:-0500
TZNAME:EST
DTSTART:20241103T060000
END:STANDARD
BEGIN:DAYLIGHT
TZOFFSETFROM:-0500
TZOFFSETTO:-0400
TZNAME:EDT
DTSTART:20250309T070000
END:DAYLIGHT
BEGIN:STANDARD
TZOFFSETFROM:-0400
TZOFFSETTO:-0500
TZNAME:EST
DTSTART:20251102T060000
END:STANDARD
BEGIN:DAYLIGHT
TZOFFSETFROM:-0500
TZOFFSETTO:-0400
TZNAME:EDT
DTSTART:20260308T070000
END:DAYLIGHT
BEGIN:STANDARD
TZOFFSETFROM:-0400
TZOFFSETTO:-0500
TZNAME:EST
DTSTART:20261101T060000
END:STANDARD
END:VTIMEZONE
BEGIN:VEVENT
DTSTART;TZID=America/New_York:20250716T140000
DTEND;TZID=America/New_York:20250716T150000
DTSTAMP:20260422T211150
CREATED:20250703T153012Z
LAST-MODIFIED:20250703T153213Z
UID:10002058-1752674400-1752678000@frederickliving.org
SUMMARY:Ursinus College Summer Scholars
DESCRIPTION:Students from the Ursinus College Summer Fellows program will share brief summaries of their summer research projects. There will be an opportunity to ask questions and provide feedback on their work. The program is open to the public. Call Emily at 610-754-7878 to reserve your seat.
URL:https://frederickliving.org/event/ursinus-college-summer-scholars/
LOCATION:Frederick Living Auditorium\, 2849 Big Rd.\, Zieglerville\, Pennsylvania\, 19492
ATTACH;FMTTYPE=image/jpeg:https://frederickliving.org/wp-content/uploads/2025/07/Ursinus-logo.jpg
END:VEVENT
END:VCALENDAR