BEGIN:VCALENDAR
VERSION:2.0
PRODID:-//Frederick Living - ECPv6.15.20//NONSGML v1.0//EN
CALSCALE:GREGORIAN
METHOD:PUBLISH
X-ORIGINAL-URL:https://frederickliving.org
X-WR-CALDESC:Events for Frederick Living
REFRESH-INTERVAL;VALUE=DURATION:PT1H
X-Robots-Tag:noindex
X-PUBLISHED-TTL:PT1H
BEGIN:VTIMEZONE
TZID:America/New_York
BEGIN:DAYLIGHT
TZOFFSETFROM:-0500
TZOFFSETTO:-0400
TZNAME:EDT
DTSTART:20240310T070000
END:DAYLIGHT
BEGIN:STANDARD
TZOFFSETFROM:-0400
TZOFFSETTO:-0500
TZNAME:EST
DTSTART:20241103T060000
END:STANDARD
BEGIN:DAYLIGHT
TZOFFSETFROM:-0500
TZOFFSETTO:-0400
TZNAME:EDT
DTSTART:20250309T070000
END:DAYLIGHT
BEGIN:STANDARD
TZOFFSETFROM:-0400
TZOFFSETTO:-0500
TZNAME:EST
DTSTART:20251102T060000
END:STANDARD
BEGIN:DAYLIGHT
TZOFFSETFROM:-0500
TZOFFSETTO:-0400
TZNAME:EDT
DTSTART:20260308T070000
END:DAYLIGHT
BEGIN:STANDARD
TZOFFSETFROM:-0400
TZOFFSETTO:-0500
TZNAME:EST
DTSTART:20261101T060000
END:STANDARD
END:VTIMEZONE
BEGIN:VEVENT
DTSTART;TZID=America/New_York:20250702T180000
DTEND;TZID=America/New_York:20250702T200000
DTSTAMP:20260422T211149
CREATED:20250325T184309Z
LAST-MODIFIED:20250325T191308Z
UID:10001982-1751479200-1751486400@frederickliving.org
SUMMARY:Dementia Learning Series
DESCRIPTION:If you are caring for someone with a dementia or Alzheimer’s diagnosis this 3-part series of educational sessions will provide you with valuable tools and insights to assist on your care-giving journey. Taught by Dementia Educator Melody Karick\, the series includes: \n\n\n\n\nWeek 1: Care Partner Support\n\n\n\nWeek 2: Challenges to Solutions: Dementia Experience\n\n\n\nWeek 3: Benefits of Memory Care and When is it Time?\n\n\n\n\nGain valuable insights into caring for a loved one\, yourself\, and knowing when it’s time for help. Participants will also experience what it is like to have dementia utilizing sensory tools designed to mimic the disease. \n\n\n\nThis FREE series is open to the public\, however please pre-register by calling Lisa McCartin at 610-754-7878 ext. 1001.
URL:https://frederickliving.org/event/dementia-learning-series-2/
LOCATION:Fireside Dining Room at Frederick Living\, 2849 Big Road\, Zieglerville\, Pennsylvania\, 19492
ATTACH;FMTTYPE=image/jpeg:https://frederickliving.org/wp-content/uploads/2025/03/Melody-Karick.jpg
END:VEVENT
END:VCALENDAR