BEGIN:VCALENDAR
VERSION:2.0
PRODID:-//Frederick Living - ECPv6.15.20//NONSGML v1.0//EN
CALSCALE:GREGORIAN
METHOD:PUBLISH
X-WR-CALNAME:Frederick Living
X-ORIGINAL-URL:https://frederickliving.org
X-WR-CALDESC:Events for Frederick Living
REFRESH-INTERVAL;VALUE=DURATION:PT1H
X-Robots-Tag:noindex
X-PUBLISHED-TTL:PT1H
BEGIN:VTIMEZONE
TZID:America/New_York
BEGIN:DAYLIGHT
TZOFFSETFROM:-0500
TZOFFSETTO:-0400
TZNAME:EDT
DTSTART:20230312T070000
END:DAYLIGHT
BEGIN:STANDARD
TZOFFSETFROM:-0400
TZOFFSETTO:-0500
TZNAME:EST
DTSTART:20231105T060000
END:STANDARD
BEGIN:DAYLIGHT
TZOFFSETFROM:-0500
TZOFFSETTO:-0400
TZNAME:EDT
DTSTART:20240310T070000
END:DAYLIGHT
BEGIN:STANDARD
TZOFFSETFROM:-0400
TZOFFSETTO:-0500
TZNAME:EST
DTSTART:20241103T060000
END:STANDARD
BEGIN:DAYLIGHT
TZOFFSETFROM:-0500
TZOFFSETTO:-0400
TZNAME:EDT
DTSTART:20250309T070000
END:DAYLIGHT
BEGIN:STANDARD
TZOFFSETFROM:-0400
TZOFFSETTO:-0500
TZNAME:EST
DTSTART:20251102T060000
END:STANDARD
END:VTIMEZONE
BEGIN:VEVENT
DTSTART;TZID=America/New_York:20240806T083000
DTEND;TZID=America/New_York:20240806T083000
DTSTAMP:20260425T125611
CREATED:20240722T175741Z
LAST-MODIFIED:20240722T180040Z
UID:10001897-1722933000-1722933000@frederickliving.org
SUMMARY:The Four Pillars of the New Retirement
DESCRIPTION:An extensive study by Edward Jones and Age Wave uncovered four essential “pillars” that can impact your quality of life in retirement. Please join us for “The Four Pillars of the New Retirement” to learnabout these essentials and other eye-opening insights that can help you get ready for your next chapter. \n\n\n\nThis seminar will be held in the Fireside Dining room at Frederick Living and is open to the public. Breakfast will be served. We hope you and a guest will join us.  \n\n\n\nPlease call Rozanne Spiecker at 610-326-1035 or email rozanne.spiecker@edwardjones.com by08/01/2024 to reserve your seat.
URL:https://frederickliving.org/event/the-four-pillars-of-the-new-retirement/
LOCATION:Fireside Dining Room at Frederick Living\, 2849 Big Road\, Zieglerville\, Pennsylvania\, 19492
END:VEVENT
BEGIN:VEVENT
DTSTART;TZID=America/New_York:20240806T100000
DTEND;TZID=America/New_York:20240806T150000
DTSTAMP:20260425T125611
CREATED:20231219T182633Z
LAST-MODIFIED:20250414T131123Z
UID:10001308-1722938400-1722956400@frederickliving.org
SUMMARY:On-Site Interviews - Frederick Living
DESCRIPTION:On-Site interview day is every Tuesday! If you’re searching for a forward-looking community and a purposeful career we would like to talk with you!  \n\n\n\nFrederick Living is part of Garden Spot Communities\, located in Zieglerville and is committed to knowing you and helping you fulfill your dreams and live the life you imagine.
URL:https://frederickliving.org/event/walk-on-interviews-frederick-living/2024-08-06/
LOCATION:Frederick Living\, 2849 Big Rd\, Zieglerville\, PA 19492\, Pennsylvania\, 19492\, United States
CATEGORIES:Frederick Living,On-Site Interviews
ATTACH;FMTTYPE=image/jpeg:https://frederickliving.org/wp-content/uploads/2023/12/Beth-interview.jpg
END:VEVENT
END:VCALENDAR