BEGIN:VCALENDAR
VERSION:2.0
PRODID:-//Frederick Living - ECPv6.15.20//NONSGML v1.0//EN
CALSCALE:GREGORIAN
METHOD:PUBLISH
X-WR-CALNAME:Frederick Living
X-ORIGINAL-URL:https://frederickliving.org
X-WR-CALDESC:Events for Frederick Living
REFRESH-INTERVAL;VALUE=DURATION:PT1H
X-Robots-Tag:noindex
X-PUBLISHED-TTL:PT1H
BEGIN:VTIMEZONE
TZID:America/New_York
BEGIN:DAYLIGHT
TZOFFSETFROM:-0500
TZOFFSETTO:-0400
TZNAME:EDT
DTSTART:20230312T070000
END:DAYLIGHT
BEGIN:STANDARD
TZOFFSETFROM:-0400
TZOFFSETTO:-0500
TZNAME:EST
DTSTART:20231105T060000
END:STANDARD
BEGIN:DAYLIGHT
TZOFFSETFROM:-0500
TZOFFSETTO:-0400
TZNAME:EDT
DTSTART:20240310T070000
END:DAYLIGHT
BEGIN:STANDARD
TZOFFSETFROM:-0400
TZOFFSETTO:-0500
TZNAME:EST
DTSTART:20241103T060000
END:STANDARD
BEGIN:DAYLIGHT
TZOFFSETFROM:-0500
TZOFFSETTO:-0400
TZNAME:EDT
DTSTART:20250309T070000
END:DAYLIGHT
BEGIN:STANDARD
TZOFFSETFROM:-0400
TZOFFSETTO:-0500
TZNAME:EST
DTSTART:20251102T060000
END:STANDARD
END:VTIMEZONE
BEGIN:VEVENT
DTSTART;TZID=America/New_York:20240712T090000
DTEND;TZID=America/New_York:20240712T120000
DTSTAMP:20260425T142955
CREATED:20240516T150214Z
LAST-MODIFIED:20240516T153150Z
UID:10001890-1720774800-1720785600@frederickliving.org
SUMMARY:Open House & Community Yard Sale
DESCRIPTION:Join us for this freedom focused extravaganza! Gather information on how you can experience freedom during retirement as a future resident and tour select resident homes. Experience community life as you browse the yard sale and then consider staying for lunch in our Bistro.
URL:https://frederickliving.org/event/open-house-community-yard-sale/
LOCATION:Frederick Living\, 2849 Big Rd\, Zieglerville\, PA 19492\, Pennsylvania\, 19492\, United States
END:VEVENT
END:VCALENDAR